BEGIN:VCALENDAR
VERSION:2.0
PRODID:-//Avy Energy - ECPv6.15.20//NONSGML v1.0//EN
CALSCALE:GREGORIAN
METHOD:PUBLISH
X-WR-CALNAME:Avy Energy
X-ORIGINAL-URL:https://avyenergy.com
X-WR-CALDESC:Events for Avy Energy
REFRESH-INTERVAL;VALUE=DURATION:PT1H
X-Robots-Tag:noindex
X-PUBLISHED-TTL:PT1H
BEGIN:VTIMEZONE
TZID:America/Edmonton
BEGIN:DAYLIGHT
TZOFFSETFROM:-0700
TZOFFSETTO:-0600
TZNAME:MDT
DTSTART:20250309T090000
END:DAYLIGHT
BEGIN:STANDARD
TZOFFSETFROM:-0600
TZOFFSETTO:-0700
TZNAME:MST
DTSTART:20251102T080000
END:STANDARD
BEGIN:DAYLIGHT
TZOFFSETFROM:-0700
TZOFFSETTO:-0600
TZNAME:MDT
DTSTART:20260308T090000
END:DAYLIGHT
BEGIN:STANDARD
TZOFFSETFROM:-0600
TZOFFSETTO:-0700
TZNAME:MST
DTSTART:20261101T080000
END:STANDARD
BEGIN:DAYLIGHT
TZOFFSETFROM:-0700
TZOFFSETTO:-0600
TZNAME:MDT
DTSTART:20270314T090000
END:DAYLIGHT
BEGIN:STANDARD
TZOFFSETFROM:-0600
TZOFFSETTO:-0700
TZNAME:MST
DTSTART:20271107T080000
END:STANDARD
END:VTIMEZONE
BEGIN:VEVENT
DTSTART;TZID=America/Edmonton:20260425T140000
DTEND;TZID=America/Edmonton:20260425T153000
DTSTAMP:20260423T034704
CREATED:20260422T184936Z
LAST-MODIFIED:20260422T184936Z
UID:1961-1777125600-1777131000@avyenergy.com
SUMMARY:Tea & Colloquy
DESCRIPTION:A Monthly Gathering for Open Conversation & Energetic Reflection\n\nFacilitated by April Young\nTea & Colloquy is a gently guided community circle where we explore what’s moving in our lives\, our energy\, and our inner landscapes.\n\nThis is a space where conversation unfolds organically\, led by spirit\, curiosity\, and the collective field of those who gather.Each month has its own tone\, shaped by the season\, the energy of the day\, and the people in the room. Sometimes we dive into the deeper questions. Sometimes we laugh more than we talk. Sometimes the conversation opens a doorway we didn’t expect.All of it is welcome.\n\nThis circle is:A soft landing place to be witnessed without judgmentA space where your voice matters and your pace is honouredA community container for reflection\, connection\, and honest conversationAn opportunity to tap into the wisdom that emerges when we gather intentionally\n\nWhat to ExpectTea\, presence\, and an invitation to arrive fullyA guided grounding to anchor into the spaceConversation that flows intuitively (no agenda\, no pressure)Energetic insights as they arise in the momentSpace to share\, listen\, and simply beClosing reflections to gently integrate the evening\nThis container is perfect if you’re longing for:Meaningful\, soul-level conversationA community of like-hearted humansA place to unpack what’s stirring in your worldConnection without performance or pretense\n\nEnergy ExchangeFree – please register to reserve your spot (space is intentionally cozy)https://calendly.com/avyenergy/tea_colloquy\n\n(If you’d like to bring tea\, snacks\, or an offering for the space\, you’re welcome\, but never required.)\nLocation – #200B 10006 101 Avenue Grande Prairie
URL:https://avyenergy.com/event/tea-colloquy/
LOCATION:Health Hearth Home\, 10006 101 Avenue Unit 200B\, Grande Prairie\, Alberta\, Canada
CATEGORIES:In Person
ATTACH;FMTTYPE=image/jpeg:https://avyenergy.com/wp-content/uploads/2026/04/Website-Images-300-x-300-px-4.jpg
ORGANIZER;CN="Avy Energy":MAILTO:april@avyenergy.com
END:VEVENT
BEGIN:VEVENT
DTSTART;TZID=America/Edmonton:20260501T190000
DTEND;TZID=America/Edmonton:20260501T203000
DTSTAMP:20260423T034704
CREATED:20260422T182956Z
LAST-MODIFIED:20260422T183907Z
UID:1955-1777662000-1777667400@avyenergy.com
SUMMARY:Field Integrity: A 5-Week Reset
DESCRIPTION:Field Integrity: A 5-Week ResetEnergy Hygiene for Real LifeCA$175.00 – Early Bird Pricing $150.00 until April 24\, 2024\n\nA 5 Week ExperienceDate & Time: Fridays in May 2026 7:00PMLocation: Health Hearth Home\, 10006 101\, #200BFacilitated by April Young\n\nWeek 1 – Awareness & OrientationLearn how to actually read your energy and recognize when something feels off\nWeek 2 – Your FieldWhat’s yours\, what’s not\, and where you may be carrying energy that isn’t yours to carry\nWeek 3 – Your EnvironmentHow spaces\, objects\, and people influence your field (and what to do about it)\nWeek 4 – Prepared\, Not ProtectedStop armoring. Start responding.(When to use tools… and when not to)\nWeek 5 – IntegrationBuild your own Energetic Hygiene Protocol for real life\n\nWhat to Bring:A journal\, water\, and anything that supports your comfort (mat\, blanket\, cozy layers).\n\nEnergy Exchange:CA$175 per personEARLY BIRD PRICING – $150 until April 24\, 2026\n\nMore Info: https://avyenergy.com/fieldintegrity/Reach out to pay via other options\n\nSpaces are intentionally limited to keep the circle grounded and intimate.\n\nContact:For questions\, please email april@avyenergy.com.\n\nNo Refund Policy:All purchases are final. If you notify us of your cancellation at least 48 hours before the event start time\, you will receive a credit equal to your ticket value. Credits are valid for 6 months and are transferable.
URL:https://avyenergy.com/event/field-integrity/
LOCATION:Health Hearth Home\, 10006 101 Avenue Unit 200B\, Grande Prairie\, Alberta\, Canada
CATEGORIES:In Person
ATTACH;FMTTYPE=image/png:https://avyenergy.com/wp-content/uploads/2026/04/Website-Images-300-x-300-px-2.png
ORGANIZER;CN="Avy Energy":MAILTO:april@avyenergy.com
END:VEVENT
BEGIN:VEVENT
DTSTART;TZID=America/Edmonton:20260503T130000
DTEND;TZID=America/Edmonton:20260503T143000
DTSTAMP:20260423T034704
CREATED:20260422T193426Z
LAST-MODIFIED:20260422T221348Z
UID:1974-1777813200-1777818600@avyenergy.com
SUMMARY:Rooted in Sovereignty - In Person
DESCRIPTION:Rooted in Sovereignty\nA place to land and deepen your root in self.\nCA$20.00\n\nMonthly gatheringDate & Time: May 3\, 2026 1:00PMLocation: Health Hearth Home\, 10006 101\, #200BFacilitated by April Young\n\nYou are invited into a soft\, grounded sanctuary for people who crave depth\, clarity\, and a place to just be without performance or overwhelm.\n\nThis monthly circle offers a potent space to reconnect with the intelligence of your own field. To breathe\, to land\, and to return to your inner center in the presence of other people walking the same path.\nThis gathering isn’t about intensity\, emotional outpouring\, or trying to fix anything.It’s about remembering who you are when you have room to exhale.\n\nTogether we will:• Begin with soft check-ins that honour your nervous system• Explore energetic hygiene for the week or month ahead• Touch on a lightly guided theme (intuition\, boundaries\, cycles\, embodiment\, energetics this will vary month to month)• Practice simple techniques to come back into your body and your center• Share space for meaningful but unforced connection• Close with grounding to leave you clear\, steady\, and rooted\n\nThis circle is for you if:• You’re sensitive\, intuitive\, or energetically aware• You crave community that feels nourishing• You’re learning to honour your boundaries and energetic capacity• You desire connection without pressure\, overwhelm\, or obligation• You want a place to deepen your inner world in a calm\, sovereign way\n\nWhat to Bring:A journal\, water\, and anything that supports your comfort (mat\, blanket\, cozy layers).\n\nEnergy Exchange:CA$20 per personSign Up: https://calendly.com/avyenergy/rooted-inperson\n\nReach out to pay via other options\nSpaces are intentionally limited to keep the circle grounded and intimate.\n\nContact:For questions\, please email april@avyenergy.com.\n\nNo Refund Policy:All purchases are final. If you notify us of your cancellation at least 48 hours before the event start time\, you will receive a credit equal to your ticket value. Credits are valid for 6 months and are transferable
URL:https://avyenergy.com/event/rooted-may/
LOCATION:Health Hearth Home\, 10006 101 Avenue Unit 200B\, Grande Prairie\, Alberta\, Canada
CATEGORIES:In Person
ATTACH;FMTTYPE=image/png:https://avyenergy.com/wp-content/uploads/2026/04/Website-Images-300-x-300-px.png
ORGANIZER;CN="Avy Energy":MAILTO:april@avyenergy.com
END:VEVENT
BEGIN:VEVENT
DTSTART;TZID=America/Edmonton:20260505T130000
DTEND;TZID=America/Edmonton:20260505T143000
DTSTAMP:20260423T034704
CREATED:20260422T201918Z
LAST-MODIFIED:20260422T221519Z
UID:1981-1777986000-1777991400@avyenergy.com
SUMMARY:Rooted in Sovereignty - Virtual
DESCRIPTION:Rooted in Sovereignty\nA place to land and deepen your root in self.\nCA$20.00\n\nMonthly gatheringDate & Time: May 5\, 2026 1:00PMLocation: Virtual via ZoomFacilitated by April Young\n\nYou are invited into a soft\, grounded sanctuary for people who crave depth\, clarity\, and a place to just be without performance or overwhelm.\n\nThis monthly circle offers a potent space to reconnect with the intelligence of your own field. To breathe\, to land\, and to return to your inner center in the presence of other people walking the same path.\nThis gathering isn’t about intensity\, emotional outpouring\, or trying to fix anything.It’s about remembering who you are when you have room to exhale.\n\nTogether we will:• Begin with soft check-ins that honour your nervous system• Explore energetic hygiene for the week or month ahead• Touch on a lightly guided theme (intuition\, boundaries\, cycles\, embodiment\, energetics this will vary month to month)• Practice simple techniques to come back into your body and your center• Share space for meaningful but unforced connection• Close with grounding to leave you clear\, steady\, and rooted\n\nThis circle is for you if:• You’re sensitive\, intuitive\, or energetically aware• You crave community that feels nourishing• You’re learning to honour your boundaries and energetic capacity• You desire connection without pressure\, overwhelm\, or obligation• You want a place to deepen your inner world in a calm\, sovereign way\n\nWhat to Bring:A journal\, water\, and anything that supports your comfort (mat\, blanket\, cozy layers).\n\nEnergy Exchange:CA$20 per personSign Up: https://calendly.com/avyenergy/rooted-inperson\n\nReach out to pay via other options\nSpaces are intentionally limited to keep the circle grounded and intimate.\n\nContact:For questions\, please email april@avyenergy.com.\n\nNo Refund Policy:All purchases are final. If you notify us of your cancellation at least 48 hours before the event start time\, you will receive a credit equal to your ticket value. Credits are valid for 6 months and are transferable
URL:https://avyenergy.com/event/rooted-virtual-may/
LOCATION:Zoom\, Virtual - Globally
CATEGORIES:In Person
ATTACH;FMTTYPE=image/jpeg:https://avyenergy.com/wp-content/uploads/2026/01/Website-Images-300-x-300-px-3.jpg
ORGANIZER;CN="Avy Energy":MAILTO:april@avyenergy.com
END:VEVENT
BEGIN:VEVENT
DTSTART;TZID=America/Edmonton:20260508T190000
DTEND;TZID=America/Edmonton:20260508T203000
DTSTAMP:20260423T034704
CREATED:20260422T192507Z
LAST-MODIFIED:20260422T192804Z
UID:1966-1778266800-1778272200@avyenergy.com
SUMMARY:Field Integrity: A 5-Week Reset - Week 2
DESCRIPTION:Field Integrity: A 5-Week ResetEnergy Hygiene for Real LifeCA$175.00 – Early Bird Pricing $150.00 until April 24\, 2024\n\nA 5 Week ExperienceDate & Time: Fridays in May 2026 7:00PMLocation: Health Hearth Home\, 10006 101\, #200BFacilitated by April Young\n\nWeek 1 – Awareness & OrientationLearn how to actually read your energy and recognize when something feels off\nWeek 2 – Your FieldWhat’s yours\, what’s not\, and where you may be carrying energy that isn’t yours to carry\nWeek 3 – Your EnvironmentHow spaces\, objects\, and people influence your field (and what to do about it)\nWeek 4 – Prepared\, Not ProtectedStop armoring. Start responding.(When to use tools… and when not to)\nWeek 5 – IntegrationBuild your own Energetic Hygiene Protocol for real life\n\nWhat to Bring:A journal\, water\, and anything that supports your comfort (mat\, blanket\, cozy layers).\n\nEnergy Exchange:CA$175 per personEARLY BIRD PRICING – $150 until April 24\, 2026\n\nMore Info: https://avyenergy.com/fieldintegrity/Reach out to pay via other options\n\nSpaces are intentionally limited to keep the circle grounded and intimate.\n\nContact:For questions\, please email april@avyenergy.com.\n\nNo Refund Policy:All purchases are final. If you notify us of your cancellation at least 48 hours before the event start time\, you will receive a credit equal to your ticket value. Credits are valid for 6 months and are transferable.
URL:https://avyenergy.com/event/field-integrity-a-5-week-reset-week2/
LOCATION:Health Hearth Home\, 10006 101 Avenue Unit 200B\, Grande Prairie\, Alberta\, Canada
CATEGORIES:In Person
ATTACH;FMTTYPE=image/png:https://avyenergy.com/wp-content/uploads/2026/04/Website-Images-300-x-300-px-2.png
ORGANIZER;CN="Avy Energy":MAILTO:april@avyenergy.com
END:VEVENT
BEGIN:VEVENT
DTSTART;TZID=America/Edmonton:20260515T190000
DTEND;TZID=America/Edmonton:20260515T203000
DTSTAMP:20260423T034704
CREATED:20260422T192717Z
LAST-MODIFIED:20260422T192736Z
UID:1968-1778871600-1778877000@avyenergy.com
SUMMARY:Field Integrity: A 5-Week Reset - Week 3
DESCRIPTION:Field Integrity: A 5-Week ResetEnergy Hygiene for Real LifeCA$175.00 – Early Bird Pricing $150.00 until April 24\, 2024\n\nA 5 Week ExperienceDate & Time: Fridays in May 2026 7:00PMLocation: Health Hearth Home\, 10006 101\, #200BFacilitated by April Young\n\nWeek 1 – Awareness & OrientationLearn how to actually read your energy and recognize when something feels off\nWeek 2 – Your FieldWhat’s yours\, what’s not\, and where you may be carrying energy that isn’t yours to carry\nWeek 3 – Your EnvironmentHow spaces\, objects\, and people influence your field (and what to do about it)\nWeek 4 – Prepared\, Not ProtectedStop armoring. Start responding.(When to use tools… and when not to)\nWeek 5 – IntegrationBuild your own Energetic Hygiene Protocol for real life\n\nWhat to Bring:A journal\, water\, and anything that supports your comfort (mat\, blanket\, cozy layers).\n\nEnergy Exchange:CA$175 per personEARLY BIRD PRICING – $150 until April 24\, 2026\n\nMore Info: https://avyenergy.com/fieldintegrity/Reach out to pay via other options\n\nSpaces are intentionally limited to keep the circle grounded and intimate.\n\nContact:For questions\, please email april@avyenergy.com.\n\nNo Refund Policy:All purchases are final. If you notify us of your cancellation at least 48 hours before the event start time\, you will receive a credit equal to your ticket value. Credits are valid for 6 months and are transferable.
URL:https://avyenergy.com/event/field-integrity-week3/
LOCATION:Health Hearth Home\, 10006 101 Avenue Unit 200B\, Grande Prairie\, Alberta\, Canada
CATEGORIES:In Person
ATTACH;FMTTYPE=image/png:https://avyenergy.com/wp-content/uploads/2026/04/Website-Images-300-x-300-px-2.png
ORGANIZER;CN="Avy Energy":MAILTO:april@avyenergy.com
END:VEVENT
BEGIN:VEVENT
DTSTART;TZID=America/Edmonton:20260517T130000
DTEND;TZID=America/Edmonton:20260517T143000
DTSTAMP:20260423T034704
CREATED:20260422T201421Z
LAST-MODIFIED:20260422T221631Z
UID:1976-1779022800-1779028200@avyenergy.com
SUMMARY:Quantum Recalibration - In Person
DESCRIPTION:Quantum Recalibration is a monthly guided healing circle for those who feel the call to release density\, unwind outdated patterns\, and gently return their system to coherence.\nThis is about creating the conditions where your own intelligence knows what to release\, when to release it\, and how to integrate what comes next.\n\nEach month\, we’ll gather around a shared theme that’s relevant to everyone in the circle. From there\, we’ll follow the energy\, allowing what’s ready to soften\, release\, complete\, or re-organize to do so with support and intention.\n\nI will be holding the container: tracking the field\, watching the pacing\, and supporting the group’s nervous system and energetic flow.\nYou will be doing your own work\, guided\, supported\, and resourced from within\, in a space that can hold you.This is subtle work. Deep work. And it meets you exactly where you are.\n\nWhat This Circle IsA guided energetic experience rooted in safety\, sovereignty\, and self-trustA space to release what your system is ready to let go of\, without forceA monthly rhythm to support ongoing recalibration\, not one-time catharsisA container where the body\, nervous system\, and energy field are all respected\nI’ll be holding and monitoring the container\, tracking the field\, timing\, and flow. You do the work of listening to and responding to your own system.If at any point you’d like direct support\, I’m available to step into your field by request\, but the focus remains on empowering your own capacity and intelligence.\n\nWhat This Circle Is NotNot a one-size-fits-all healingNot group therapy or trauma processingNot a place where anyone is pushed beyond readinessNot about bypassing or forcing transformation\nThis is a space of listening\, not striving.\n\nThis Circle Is For You IfYou feel “full\,” heavy\, or energetically cluttered and want to release gentlyYou’re curious about energy work and quantum concepts\, but prefer grounded languageYou want guidance without giving your power awayYou trust that your body and field already know what they’re doingYou want to build trust in your own inner awarenessYou value regulation\, integration\, and sustainable change\n\nNo prior energy work experience is required\, only curiosity and consent.\n\nHow You May Feel AfterwardsExperiences vary\, but many people report feeling:Lighter or more spaciousMore grounded and presentCalm\, clear\, or gently energizedMore connected to their own inner signals\nIntegration continues beyond the circle. It is sometimes subtle\, and other times very noticeable.\n\nWhat to Bring:A journal\, water\, and anything that supports your comfort (mat\, blanket\, cozy layers).\n\nEnergy Exchange:CA$45 per person\nSign Up: https://calendly.com/avyenergy/quantum-recalibration***other payment options available – please reach out***Spaces are intentionally limited to keep the circle grounded and intimate.\n\nContact:For questions\, please email april@avyenergy.com.\n\nNo Refund Policy:\nAll purchases are final. If you notify us of your cancellation at least 48 hours before the event start time\, you will receive a credit equal to your ticket value. Credits are valid for 6 months and are transferable
URL:https://avyenergy.com/event/quantum-recalibration-in-person/
LOCATION:Health Hearth Home\, 10006 101 Avenue Unit 200B\, Grande Prairie\, Alberta\, Canada
CATEGORIES:In Person
ATTACH;FMTTYPE=image/png:https://avyenergy.com/wp-content/uploads/2026/04/Website-Images-300-x-300-px-1.png
END:VEVENT
BEGIN:VEVENT
DTSTART;TZID=America/Edmonton:20260519T130000
DTEND;TZID=America/Edmonton:20260519T143000
DTSTAMP:20260423T034704
CREATED:20260422T201616Z
LAST-MODIFIED:20260422T221715Z
UID:1978-1779195600-1779201000@avyenergy.com
SUMMARY:Quantum Recalibration - In Virtual
DESCRIPTION:Quantum Recalibration is a monthly guided healing circle for those who feel the call to release density\, unwind outdated patterns\, and gently return their system to coherence.\nThis is about creating the conditions where your own intelligence knows what to release\, when to release it\, and how to integrate what comes next.\n\nEach month\, we’ll gather around a shared theme that’s relevant to everyone in the circle. From there\, we’ll follow the energy\, allowing what’s ready to soften\, release\, complete\, or re-organize to do so with support and intention.\n\nI will be holding the container: tracking the field\, watching the pacing\, and supporting the group’s nervous system and energetic flow.\nYou will be doing your own work\, guided\, supported\, and resourced from within\, in a space that can hold you.This is subtle work. Deep work. And it meets you exactly where you are.\n\nWhat This Circle IsA guided energetic experience rooted in safety\, sovereignty\, and self-trustA space to release what your system is ready to let go of\, without forceA monthly rhythm to support ongoing recalibration\, not one-time catharsisA container where the body\, nervous system\, and energy field are all respected\nI’ll be holding and monitoring the container\, tracking the field\, timing\, and flow. You do the work of listening to and responding to your own system.If at any point you’d like direct support\, I’m available to step into your field by request\, but the focus remains on empowering your own capacity and intelligence.\n\nWhat This Circle Is NotNot a one-size-fits-all healingNot group therapy or trauma processingNot a place where anyone is pushed beyond readinessNot about bypassing or forcing transformation\nThis is a space of listening\, not striving.\n\nThis Circle Is For You IfYou feel “full\,” heavy\, or energetically cluttered and want to release gentlyYou’re curious about energy work and quantum concepts\, but prefer grounded languageYou want guidance without giving your power awayYou trust that your body and field already know what they’re doingYou want to build trust in your own inner awarenessYou value regulation\, integration\, and sustainable change\n\nNo prior energy work experience is required\, only curiosity and consent.\n\nHow You May Feel AfterwardsExperiences vary\, but many people report feeling:Lighter or more spaciousMore grounded and presentCalm\, clear\, or gently energizedMore connected to their own inner signals\nIntegration continues beyond the circle. It is sometimes subtle\, and other times very noticeable.\n\nWhat to Bring:A journal\, water\, and anything that supports your comfort (mat\, blanket\, cozy layers).\n\nEnergy Exchange:CA$45 per person\nSign Up: https://calendly.com/avyenergy/quantum-recalibration***other payment options available – please reach out***Spaces are intentionally limited to keep the circle grounded and intimate.\n\nContact:For questions\, please email april@avyenergy.com.\n\nNo Refund Policy:\nAll purchases are final. If you notify us of your cancellation at least 48 hours before the event start time\, you will receive a credit equal to your ticket value. Credits are valid for 6 months and are transferable
URL:https://avyenergy.com/event/quantum-recalibration-virtual-may/
LOCATION:Zoom\, Virtual - Globally
CATEGORIES:In Person
ATTACH;FMTTYPE=image/jpeg:https://avyenergy.com/wp-content/uploads/2026/01/Website-Images-300-x-300-px-24.jpg
END:VEVENT
BEGIN:VEVENT
DTSTART;TZID=America/Edmonton:20260522T190000
DTEND;TZID=America/Edmonton:20260522T203000
DTSTAMP:20260423T034704
CREATED:20260422T192857Z
LAST-MODIFIED:20260422T192857Z
UID:1970-1779476400-1779481800@avyenergy.com
SUMMARY:Field Integrity: A 5-Week Reset - Week 4
DESCRIPTION:Field Integrity: A 5-Week ResetEnergy Hygiene for Real LifeCA$175.00 – Early Bird Pricing $150.00 until April 24\, 2024\n\nA 5 Week ExperienceDate & Time: Fridays in May 2026 7:00PMLocation: Health Hearth Home\, 10006 101\, #200BFacilitated by April Young\n\nWeek 1 – Awareness & OrientationLearn how to actually read your energy and recognize when something feels off\nWeek 2 – Your FieldWhat’s yours\, what’s not\, and where you may be carrying energy that isn’t yours to carry\nWeek 3 – Your EnvironmentHow spaces\, objects\, and people influence your field (and what to do about it)\nWeek 4 – Prepared\, Not ProtectedStop armoring. Start responding.(When to use tools… and when not to)\nWeek 5 – IntegrationBuild your own Energetic Hygiene Protocol for real life\n\nWhat to Bring:A journal\, water\, and anything that supports your comfort (mat\, blanket\, cozy layers).\n\nEnergy Exchange:CA$175 per personEARLY BIRD PRICING – $150 until April 24\, 2026\n\nMore Info: https://avyenergy.com/fieldintegrity/Reach out to pay via other options\n\nSpaces are intentionally limited to keep the circle grounded and intimate.\n\nContact:For questions\, please email april@avyenergy.com.\n\nNo Refund Policy:All purchases are final. If you notify us of your cancellation at least 48 hours before the event start time\, you will receive a credit equal to your ticket value. Credits are valid for 6 months and are transferable.
URL:https://avyenergy.com/event/field-integrity-week4/
LOCATION:Health Hearth Home\, 10006 101 Avenue Unit 200B\, Grande Prairie\, Alberta\, Canada
CATEGORIES:In Person
ATTACH;FMTTYPE=image/png:https://avyenergy.com/wp-content/uploads/2026/04/Website-Images-300-x-300-px-2.png
ORGANIZER;CN="Avy Energy":MAILTO:april@avyenergy.com
END:VEVENT
BEGIN:VEVENT
DTSTART;TZID=America/Edmonton:20260529T190000
DTEND;TZID=America/Edmonton:20260529T203000
DTSTAMP:20260423T034704
CREATED:20260422T192958Z
LAST-MODIFIED:20260422T192958Z
UID:1972-1780081200-1780086600@avyenergy.com
SUMMARY:Field Integrity: A 5-Week Reset - Week 5
DESCRIPTION:Field Integrity: A 5-Week ResetEnergy Hygiene for Real LifeCA$175.00 – Early Bird Pricing $150.00 until April 24\, 2024\n\nA 5 Week ExperienceDate & Time: Fridays in May 2026 7:00PMLocation: Health Hearth Home\, 10006 101\, #200BFacilitated by April Young\n\nWeek 1 – Awareness & OrientationLearn how to actually read your energy and recognize when something feels off\nWeek 2 – Your FieldWhat’s yours\, what’s not\, and where you may be carrying energy that isn’t yours to carry\nWeek 3 – Your EnvironmentHow spaces\, objects\, and people influence your field (and what to do about it)\nWeek 4 – Prepared\, Not ProtectedStop armoring. Start responding.(When to use tools… and when not to)\nWeek 5 – IntegrationBuild your own Energetic Hygiene Protocol for real life\n\nWhat to Bring:A journal\, water\, and anything that supports your comfort (mat\, blanket\, cozy layers).\n\nEnergy Exchange:CA$175 per personEARLY BIRD PRICING – $150 until April 24\, 2026\n\nMore Info: https://avyenergy.com/fieldintegrity/Reach out to pay via other options\n\nSpaces are intentionally limited to keep the circle grounded and intimate.\n\nContact:For questions\, please email april@avyenergy.com.\n\nNo Refund Policy:All purchases are final. If you notify us of your cancellation at least 48 hours before the event start time\, you will receive a credit equal to your ticket value. Credits are valid for 6 months and are transferable.
URL:https://avyenergy.com/event/field-integrity-week5/
LOCATION:Health Hearth Home\, 10006 101 Avenue Unit 200B\, Grande Prairie\, Alberta\, Canada
CATEGORIES:In Person
ATTACH;FMTTYPE=image/png:https://avyenergy.com/wp-content/uploads/2026/04/Website-Images-300-x-300-px-2.png
ORGANIZER;CN="Avy Energy":MAILTO:april@avyenergy.com
END:VEVENT
BEGIN:VEVENT
DTSTART;TZID=America/Edmonton:20260530T153000
DTEND;TZID=America/Edmonton:20260530T170000
DTSTAMP:20260423T034704
CREATED:20260422T185346Z
LAST-MODIFIED:20260422T185346Z
UID:1964-1780155000-1780160400@avyenergy.com
SUMMARY:Tea & Colloquy
DESCRIPTION:A Monthly Gathering for Open Conversation & Energetic Reflection\n\nFacilitated by April Young\nTea & Colloquy is a gently guided community circle where we explore what’s moving in our lives\, our energy\, and our inner landscapes.\n\nThis is a space where conversation unfolds organically\, led by spirit\, curiosity\, and the collective field of those who gather.Each month has its own tone\, shaped by the season\, the energy of the day\, and the people in the room. Sometimes we dive into the deeper questions. Sometimes we laugh more than we talk. Sometimes the conversation opens a doorway we didn’t expect.All of it is welcome.\n\nThis circle is:A soft landing place to be witnessed without judgmentA space where your voice matters and your pace is honouredA community container for reflection\, connection\, and honest conversationAn opportunity to tap into the wisdom that emerges when we gather intentionally\n\nWhat to ExpectTea\, presence\, and an invitation to arrive fullyA guided grounding to anchor into the spaceConversation that flows intuitively (no agenda\, no pressure)Energetic insights as they arise in the momentSpace to share\, listen\, and simply beClosing reflections to gently integrate the evening\nThis container is perfect if you’re longing for:Meaningful\, soul-level conversationA community of like-hearted humansA place to unpack what’s stirring in your worldConnection without performance or pretense\n\nEnergy ExchangeFree – please register to reserve your spot (space is intentionally cozy)https://calendly.com/avyenergy/tea_colloquy\n\n(If you’d like to bring tea\, snacks\, or an offering for the space\, you’re welcome\, but never required.)\nLocation – #200B 10006 101 Avenue Grande Prairie
URL:https://avyenergy.com/event/tea-colloquy-may/
LOCATION:Health Hearth Home\, 10006 101 Avenue Unit 200B\, Grande Prairie\, Alberta\, Canada
CATEGORIES:In Person
ATTACH;FMTTYPE=image/jpeg:https://avyenergy.com/wp-content/uploads/2026/04/Website-Images-300-x-300-px-4.jpg
ORGANIZER;CN="Avy Energy":MAILTO:april@avyenergy.com
END:VEVENT
END:VCALENDAR